BEGIN:VCALENDAR
PRODID:-//MatrixMaxx//RemoteApi//EN
VERSION:2.0
METHOD:PUBLISH
CALSCALE:GREGORIAN
X-ORIGINAL-URL:http://www2.bpsalliance.org/forms/meeting/Microsite/2025_BPSA_Summit
BEGIN:VEVENT
SUMMARY:2025 BPSA Single-Use Summit
LAST-MODIFIED:20250721
UID:ci_4A29D00000002@matrixgroup.net
CLASS:PUBLIC
CREATED:20250721
DTSTAMP:20250721
DTSTART:20250721
X-FUNAMBOL-ALLDAY:1
LOCATION:Four+Seasons+Hotel%2C+Washington+DC
DESCRIPTION:For+full+info+see+http%3A%2F%2Fwww2.bpsalliance.org%2Fforms%2Fmeeting%2FMicrosite%2F2025_BPSA_Summit%0A
X-WR-CALDESC:For+full+info+see+http%3A%2F%2Fwww2.bpsalliance.org%2Fforms%2Fmeeting%2FMicrosite%2F2025_BPSA_Summit%0A
X-WR-CALNAME:Maxx Calendar
DTEND:20250724
URL:http://www2.bpsalliance.org/forms/meeting/Microsite/2025_BPSA_Summit
END:VEVENT
END:VCALENDAR